BEGIN:VCALENDAR
VERSION:2.0
PRODID:icalendar-ruby
CALSCALE:GREGORIAN
METHOD:PUBLISH
BEGIN:VEVENT
DTSTAMP:20260425T115047Z
UID:7ff202fb-f249-4975-9d9f-fb176d4aa40a
DTSTART;VALUE=DATE:20230226
DTEND;VALUE=DATE:20230226
DESCRIPTION:Park City BMX
LOCATION:6801 N Hydraulic  Park City KS 67219 USA
SUMMARY:Local Race Single
URL:/site/bmx_races/524381
END:VEVENT
END:VCALENDAR
