BEGIN:VCALENDAR
VERSION:2.0
PRODID:icalendar-ruby
CALSCALE:GREGORIAN
METHOD:PUBLISH
BEGIN:VEVENT
DTSTAMP:20260424T202350Z
UID:ab569b43-b6bb-4295-9823-251022318fd0
DTSTART;VALUE=DATE:20230902
DTEND;VALUE=DATE:20230902
DESCRIPTION:Eagle Park BMX
LOCATION:11800 N Horseshoe Bend Rd  Eagle ID 83616 USA
SUMMARY:Local Race Single
URL:/site/bmx_races/524367
END:VEVENT
END:VCALENDAR
