BEGIN:VCALENDAR
VERSION:2.0
PRODID:icalendar-ruby
CALSCALE:GREGORIAN
METHOD:PUBLISH
BEGIN:VEVENT
DTSTAMP:20260424T192649Z
UID:40155a34-4c65-40c3-a211-2d22c386b99d
DTSTART;VALUE=DATE:20230728
DTEND;VALUE=DATE:20230728
DESCRIPTION:Central Jersey BMX
LOCATION:2449 U.S. 9  Howell NJ 7731 USA
SUMMARY:Local Race Single
URL:/site/bmx_races/524202
END:VEVENT
END:VCALENDAR
