BEGIN:VCALENDAR
VERSION:2.0
PRODID:icalendar-ruby
CALSCALE:GREGORIAN
METHOD:PUBLISH
BEGIN:VEVENT
DTSTAMP:20260424T080014Z
UID:31a7a765-100d-4db4-8bd8-bcc73df16992
DTSTART;VALUE=DATE:20230812
DTEND;VALUE=DATE:20230812
DESCRIPTION:Daytona BMX
LOCATION:1670 Strickland Range Rd  Holly Hill FL 32117 USA
SUMMARY:Race for Life Single
URL:/site/bmx_races/523986
END:VEVENT
END:VCALENDAR
