BEGIN:VCALENDAR
VERSION:2.0
PRODID:icalendar-ruby
CALSCALE:GREGORIAN
METHOD:PUBLISH
BEGIN:VEVENT
DTSTAMP:20260425T010737Z
UID:4536b5ad-2837-40cd-9d1d-77ed26282b21
DTSTART;VALUE=DATE:20230429
DTEND;VALUE=DATE:20230429
DESCRIPTION:Hardesty National BMX Stadium
LOCATION:490 N Lansing Ave  Tulsa OK 74120 USA
SUMMARY:Local Race Single
URL:/site/bmx_races/523964
END:VEVENT
END:VCALENDAR
