BEGIN:VCALENDAR
VERSION:2.0
PRODID:icalendar-ruby
CALSCALE:GREGORIAN
METHOD:PUBLISH
BEGIN:VEVENT
DTSTAMP:20260425T003109Z
UID:ac874542-5d8f-406b-9139-a9af7c793d36
DTSTART;VALUE=DATE:20230825
DTEND;VALUE=DATE:20230825
DESCRIPTION:Can Am BMX
LOCATION:8345 County Park Rd  Goodells MI 48027 USA
SUMMARY:Local Race Single
URL:/site/bmx_races/523708
END:VEVENT
END:VCALENDAR
