BEGIN:VCALENDAR
VERSION:2.0
PRODID:icalendar-ruby
CALSCALE:GREGORIAN
METHOD:PUBLISH
BEGIN:VEVENT
DTSTAMP:20260425T215220Z
UID:d0feec1d-9d86-474d-a8f9-eb18af26fed3
DTSTART;VALUE=DATE:20230812
DTEND;VALUE=DATE:20230812
DESCRIPTION:Woodland BMX
LOCATION:880 Victory Hwy  West Greenwich RI 02817 USA
SUMMARY:Local Race Single
URL:/site/bmx_races/523611
END:VEVENT
END:VCALENDAR
