BEGIN:VCALENDAR
VERSION:2.0
PRODID:icalendar-ruby
CALSCALE:GREGORIAN
METHOD:PUBLISH
BEGIN:VEVENT
DTSTAMP:20260424T093708Z
UID:54f6ec8c-91d4-4049-8589-9d752766fd81
DTSTART;VALUE=DATE:20230312
DTEND;VALUE=DATE:20230312
DESCRIPTION:Sand Springs BMX
LOCATION:2600 S River City Park Rd  Sand Springs OK 74063 USA
SUMMARY:Local Race Single
URL:/site/bmx_races/523183
END:VEVENT
END:VCALENDAR
