BEGIN:VCALENDAR
VERSION:2.0
PRODID:icalendar-ruby
CALSCALE:GREGORIAN
METHOD:PUBLISH
BEGIN:VEVENT
DTSTAMP:20260425T024655Z
UID:c3ae157c-8843-4bf5-bf7e-221ba252f4b0
DTSTART;VALUE=DATE:20230506
DTEND;VALUE=DATE:20230506
DESCRIPTION:Spartanburg BMX
LOCATION:1160 Old Furnace Rd  Boiling Springs SC 29316 USA
SUMMARY:Local Race Single
URL:/site/bmx_races/523132
END:VEVENT
END:VCALENDAR
