BEGIN:VCALENDAR
VERSION:2.0
PRODID:icalendar-ruby
CALSCALE:GREGORIAN
METHOD:PUBLISH
BEGIN:VEVENT
DTSTAMP:20260424T233629Z
UID:8280b953-d9e9-42ea-8b38-da1df32aaadd
DTSTART;VALUE=DATE:20230530
DTEND;VALUE=DATE:20230530
DESCRIPTION:Electric City BMX
LOCATION:1200 21st Ave So  Great Falls MT 59405 USA
SUMMARY:Local Race Single
URL:/site/bmx_races/522901
END:VEVENT
END:VCALENDAR
