BEGIN:VCALENDAR
VERSION:2.0
PRODID:icalendar-ruby
CALSCALE:GREGORIAN
METHOD:PUBLISH
BEGIN:VEVENT
DTSTAMP:20260424T082056Z
UID:59a8cd16-0bc0-4954-b896-d4cf27df788b
DTSTART;VALUE=DATE:20230325
DTEND;VALUE=DATE:20230325
DESCRIPTION:Lexington BMX
LOCATION:1159 Nazareth Road  Lexington SC 29073 USA
SUMMARY:Local Race Single
URL:/site/bmx_races/522869
END:VEVENT
END:VCALENDAR
