BEGIN:VCALENDAR
VERSION:2.0
PRODID:icalendar-ruby
CALSCALE:GREGORIAN
METHOD:PUBLISH
BEGIN:VEVENT
DTSTAMP:20260424T203842Z
UID:746d3e35-32d2-429d-92fd-775838167630
DTSTART;VALUE=DATE:20231028
DTEND;VALUE=DATE:20231028
DESCRIPTION:MadTown BMX
LOCATION:6996 Hickory Lane  Deforest WI 53532 USA
SUMMARY:Local Race Single
URL:/site/bmx_races/522458
END:VEVENT
END:VCALENDAR
