BEGIN:VCALENDAR
VERSION:2.0
PRODID:icalendar-ruby
CALSCALE:GREGORIAN
METHOD:PUBLISH
BEGIN:VEVENT
DTSTAMP:20260426T023238Z
UID:bb14cf2e-06d8-4b15-8cce-599560b65ead
DTSTART;VALUE=DATE:20231014
DTEND;VALUE=DATE:20231014
DESCRIPTION:Cargill Park BMX
LOCATION:2800 Cargill Drive  Shreveport LA 71108 USA
SUMMARY:Local Race Single
URL:/site/bmx_races/522285
END:VEVENT
END:VCALENDAR
