BEGIN:VCALENDAR
VERSION:2.0
PRODID:icalendar-ruby
CALSCALE:GREGORIAN
METHOD:PUBLISH
BEGIN:VEVENT
DTSTAMP:20260426T040003Z
UID:91515976-9cfb-441c-a5fb-b3019174396d
DTSTART;VALUE=DATE:20230916
DTEND;VALUE=DATE:20230916
DESCRIPTION:Cargill Park BMX
LOCATION:2800 Cargill Drive  Shreveport LA 71108 USA
SUMMARY:Local Race Single
URL:/site/bmx_races/522277
END:VEVENT
END:VCALENDAR
