BEGIN:VCALENDAR
VERSION:2.0
PRODID:icalendar-ruby
CALSCALE:GREGORIAN
METHOD:PUBLISH
BEGIN:VEVENT
DTSTAMP:20260425T215433Z
UID:dffc91b1-4e3d-4999-8fe8-1e5576ecd2d4
DTSTART;VALUE=DATE:20230218
DTEND;VALUE=DATE:20230218
DESCRIPTION:Cargill Park BMX
LOCATION:2800 Cargill Drive  Shreveport LA 71108 USA
SUMMARY:Local Race Single
URL:/site/bmx_races/522219
END:VEVENT
END:VCALENDAR
