BEGIN:VCALENDAR
VERSION:2.0
PRODID:icalendar-ruby
CALSCALE:GREGORIAN
METHOD:PUBLISH
BEGIN:VEVENT
DTSTAMP:20260424T202402Z
UID:5a061865-c60f-4ed3-90ff-524ee50848c9
DTSTART;VALUE=DATE:20230629
DTEND;VALUE=DATE:20230629
DESCRIPTION:Spokane BMX
LOCATION:5701 N Assembly St  Spokane WA 99205 USA
SUMMARY:Local Race Single
URL:/site/bmx_races/522142
END:VEVENT
END:VCALENDAR
