BEGIN:VCALENDAR
VERSION:2.0
PRODID:icalendar-ruby
CALSCALE:GREGORIAN
METHOD:PUBLISH
BEGIN:VEVENT
DTSTAMP:20260424T094843Z
UID:b3179ac2-e0da-46d4-be1a-a771c7de0d2f
DTSTART;VALUE=DATE:20230719
DTEND;VALUE=DATE:20230719
DESCRIPTION:Fort Wayne BMX
LOCATION:3411 Sherman Blvd  Fort Wayne IN 46808 USA
SUMMARY:Local Race Single
URL:/site/bmx_races/522049
END:VEVENT
END:VCALENDAR
