BEGIN:VCALENDAR
VERSION:2.0
PRODID:icalendar-ruby
CALSCALE:GREGORIAN
METHOD:PUBLISH
BEGIN:VEVENT
DTSTAMP:20260424T094141Z
UID:e57c87bb-c621-49f9-b43b-3c17a1dd6486
DTSTART;VALUE=DATE:20230705
DTEND;VALUE=DATE:20230705
DESCRIPTION:Fort Wayne BMX
LOCATION:3411 Sherman Blvd  Fort Wayne IN 46808 USA
SUMMARY:Local Race Single
URL:/site/bmx_races/522039
END:VEVENT
END:VCALENDAR
