BEGIN:VCALENDAR
VERSION:2.0
PRODID:icalendar-ruby
CALSCALE:GREGORIAN
METHOD:PUBLISH
BEGIN:VEVENT
DTSTAMP:20260424T080045Z
UID:49697d18-1e8a-4b2f-8eb5-575bc637ea70
DTSTART;VALUE=DATE:20230805
DTEND;VALUE=DATE:20230805
DESCRIPTION:Valley BMX
LOCATION:Myron Ln.  Off Wilawana Rd Athens PA 18840 USA
SUMMARY:State Race Double
URL:/site/bmx_races/521987
END:VEVENT
END:VCALENDAR
