BEGIN:VCALENDAR
VERSION:2.0
PRODID:icalendar-ruby
CALSCALE:GREGORIAN
METHOD:PUBLISH
BEGIN:VEVENT
DTSTAMP:20260424T115759Z
UID:897a2fa8-cc27-42bb-b15a-eff596c05a14
DTSTART;VALUE=DATE:20230124
DTEND;VALUE=DATE:20230124
DESCRIPTION:River City BMX
LOCATION:251 Ne Agness  Grants Pass OR 97526 USA
SUMMARY:Local Race Single
URL:/site/bmx_races/521964
END:VEVENT
END:VCALENDAR
