BEGIN:VCALENDAR
VERSION:2.0
PRODID:icalendar-ruby
CALSCALE:GREGORIAN
METHOD:PUBLISH
BEGIN:VEVENT
DTSTAMP:20260424T201312Z
UID:0a1bae73-9197-44ff-af99-b035e76646eb
DTSTART;VALUE=DATE:20230514
DTEND;VALUE=DATE:20230514
DESCRIPTION:Star City BMX
LOCATION:101 Charleston St  Lincoln NE 68508 USA
SUMMARY:Local Race Single
URL:/site/bmx_races/521903
END:VEVENT
END:VCALENDAR
