BEGIN:VCALENDAR
VERSION:2.0
PRODID:icalendar-ruby
CALSCALE:GREGORIAN
METHOD:PUBLISH
BEGIN:VEVENT
DTSTAMP:20260424T063216Z
UID:24a39717-fd7a-468a-90e8-9c050bad3b96
DTSTART;VALUE=DATE:20230910
DTEND;VALUE=DATE:20230910
DESCRIPTION:Circle City BMX
LOCATION:Westgate Park    100 Recreation Rd Dothan AL 36305 USA
SUMMARY:Local Race Single
URL:/site/bmx_races/521584
END:VEVENT
END:VCALENDAR
