BEGIN:VCALENDAR
VERSION:2.0
PRODID:icalendar-ruby
CALSCALE:GREGORIAN
METHOD:PUBLISH
BEGIN:VEVENT
DTSTAMP:20260424T080011Z
UID:10cdfb5e-da9f-49fe-8262-b0f390729b29
DTSTART;VALUE=DATE:20230625
DTEND;VALUE=DATE:20230625
DESCRIPTION:Circle City BMX
LOCATION:Westgate Park    100 Recreation Rd Dothan AL 36305 USA
SUMMARY:Local Race Single
URL:/site/bmx_races/521562
END:VEVENT
END:VCALENDAR
