BEGIN:VCALENDAR
VERSION:2.0
PRODID:icalendar-ruby
CALSCALE:GREGORIAN
METHOD:PUBLISH
BEGIN:VEVENT
DTSTAMP:20260425T201714Z
UID:67e111d6-7b96-4ae0-afda-5fc20b2f41a4
DTSTART;VALUE=DATE:20230819
DTEND;VALUE=DATE:20230819
DESCRIPTION:Lake Shore BMX
LOCATION:Scott Park 2700 West 6th St Erie PA 16505 USA
SUMMARY:Local Race Single
URL:/site/bmx_races/521503
END:VEVENT
END:VCALENDAR
