BEGIN:VCALENDAR
VERSION:2.0
PRODID:icalendar-ruby
CALSCALE:GREGORIAN
METHOD:PUBLISH
BEGIN:VEVENT
DTSTAMP:20260424T133544Z
UID:09852b57-4f31-47fd-ba73-7cb004273bfc
DTSTART;VALUE=DATE:20230111
DTEND;VALUE=DATE:20230111
DESCRIPTION:Capitol City BMX
LOCATION:5001 Killingsworth Lane  Pflugerville TX 78660 USA
SUMMARY:Local Race Single
URL:/site/bmx_races/521450
END:VEVENT
END:VCALENDAR
