BEGIN:VCALENDAR
VERSION:2.0
PRODID:icalendar-ruby
CALSCALE:GREGORIAN
METHOD:PUBLISH
BEGIN:VEVENT
DTSTAMP:20260424T115221Z
UID:0a09f0a4-e462-44bb-8f91-ad2e13b8a235
DTSTART;VALUE=DATE:20230119
DTEND;VALUE=DATE:20230119
DESCRIPTION:Lone Star BMX
LOCATION:3950 Eisenhauer Rd  San Antonio TX 78218 USA
SUMMARY:Local Race Single
URL:/site/bmx_races/521415
END:VEVENT
END:VCALENDAR
