BEGIN:VCALENDAR
VERSION:2.0
PRODID:icalendar-ruby
CALSCALE:GREGORIAN
METHOD:PUBLISH
BEGIN:VEVENT
DTSTAMP:20260424T184617Z
UID:ea2a3cee-1139-4b65-8f8c-7d79e8fbabf3
DTSTART;VALUE=DATE:20230318
DTEND;VALUE=DATE:20230318
DESCRIPTION:Interstate BMX
LOCATION:2600 Fairgrounds Blvd  Kingman AZ 86401 USA
SUMMARY:Local Race Single
URL:/site/bmx_races/521377
END:VEVENT
END:VCALENDAR
