BEGIN:VCALENDAR
VERSION:2.0
PRODID:icalendar-ruby
CALSCALE:GREGORIAN
METHOD:PUBLISH
BEGIN:VEVENT
DTSTAMP:20260424T150641Z
UID:e3b9de58-294f-4529-a5eb-936c372023d8
DTSTART;VALUE=DATE:20230828
DTEND;VALUE=DATE:20230828
DESCRIPTION:Rapid City BMX
LOCATION:626 E Fairmont Blvd  Rapid City SD 57701 USA
SUMMARY:Local Race Single
URL:/site/bmx_races/521319
END:VEVENT
END:VCALENDAR
