BEGIN:VCALENDAR
VERSION:2.0
PRODID:icalendar-ruby
CALSCALE:GREGORIAN
METHOD:PUBLISH
BEGIN:VEVENT
DTSTAMP:20260424T233747Z
UID:f973726a-9c7d-489d-88a4-0e72c80fcc8a
DTSTART;VALUE=DATE:20230626
DTEND;VALUE=DATE:20230626
DESCRIPTION:Rapid City BMX
LOCATION:626 E Fairmont Blvd  Rapid City SD 57701 USA
SUMMARY:Local Race Single
URL:/site/bmx_races/521301
END:VEVENT
END:VCALENDAR
