BEGIN:VCALENDAR
VERSION:2.0
PRODID:icalendar-ruby
CALSCALE:GREGORIAN
METHOD:PUBLISH
BEGIN:VEVENT
DTSTAMP:20260424T094818Z
UID:5633c986-175f-4ee2-9b02-5d54a8333e1d
DTSTART;VALUE=DATE:20230125
DTEND;VALUE=DATE:20230125
DESCRIPTION:Naples BMX
LOCATION:4701 Golden Gate Parkway  Naples FL 34116 USA
SUMMARY:Local Race Single
URL:/site/bmx_races/521271
END:VEVENT
END:VCALENDAR
