BEGIN:VCALENDAR
VERSION:2.0
PRODID:icalendar-ruby
CALSCALE:GREGORIAN
METHOD:PUBLISH
BEGIN:VEVENT
DTSTAMP:20260424T220216Z
UID:069dd92b-8442-401b-a40b-3aa17def2f82
DTSTART;VALUE=DATE:20230228
DTEND;VALUE=DATE:20230228
DESCRIPTION:Yukon BMX
LOCATION:Taylor Park Sports Complex   410 N 11th St Yukon OK 73064 USA
SUMMARY:Local Race Single
URL:/site/bmx_races/521203
END:VEVENT
END:VCALENDAR
