BEGIN:VCALENDAR
VERSION:2.0
PRODID:icalendar-ruby
CALSCALE:GREGORIAN
METHOD:PUBLISH
BEGIN:VEVENT
DTSTAMP:20260424T065549Z
UID:df1610f3-638a-4af3-95ad-57857cadbc07
DTSTART;VALUE=DATE:20230710
DTEND;VALUE=DATE:20230710
DESCRIPTION:Tanglewood BMX
LOCATION:4061 Clemmons Rd  Clemmons NC 27012  USA
SUMMARY:Local Race Single
URL:/site/bmx_races/520961
END:VEVENT
END:VCALENDAR
