BEGIN:VCALENDAR
VERSION:2.0
PRODID:icalendar-ruby
CALSCALE:GREGORIAN
METHOD:PUBLISH
BEGIN:VEVENT
DTSTAMP:20260424T220340Z
UID:0be73a85-ce05-4837-be97-2897a0d990ab
DTSTART;VALUE=DATE:20230521
DTEND;VALUE=DATE:20230521
DESCRIPTION:Spreckels Park BMX
LOCATION:941 Spreckels Ave  Manteca CA 95336 USA
SUMMARY:Local Race Single
URL:/site/bmx_races/520868
END:VEVENT
END:VCALENDAR
