BEGIN:VCALENDAR
VERSION:2.0
PRODID:icalendar-ruby
CALSCALE:GREGORIAN
METHOD:PUBLISH
BEGIN:VEVENT
DTSTAMP:20260424T082050Z
UID:c9b32897-a04a-4e9d-9bbc-73a33845cd16
DTSTART;VALUE=DATE:20231117
DTEND;VALUE=DATE:20231117
DESCRIPTION:Charlotte BMX
LOCATION:2505 Carmalita St  Punta Gorda FL 33950 USA
SUMMARY:Local Race Single
URL:/site/bmx_races/520518
END:VEVENT
END:VCALENDAR
