BEGIN:VCALENDAR
VERSION:2.0
PRODID:icalendar-ruby
CALSCALE:GREGORIAN
METHOD:PUBLISH
BEGIN:VEVENT
DTSTAMP:20260425T202241Z
UID:38c44778-96b7-44e3-9100-25b50c69f298
DTSTART;VALUE=DATE:20230310
DTEND;VALUE=DATE:20230310
DESCRIPTION:Charlotte BMX
LOCATION:2505 Carmalita St  Punta Gorda FL 33950 USA
SUMMARY:Local Race Single
URL:/site/bmx_races/520487
END:VEVENT
END:VCALENDAR
