BEGIN:VCALENDAR
VERSION:2.0
PRODID:icalendar-ruby
CALSCALE:GREGORIAN
METHOD:PUBLISH
BEGIN:VEVENT
DTSTAMP:20260425T015335Z
UID:7ccc31b1-f9b2-482b-aaae-eb7ed25f8d6b
DTSTART;VALUE=DATE:20230830
DTEND;VALUE=DATE:20230830
DESCRIPTION:Nellis BMX
LOCATION:4949 E Cheyenne Ave  Las Vegas NV 89115 USA
SUMMARY:Local Race Single
URL:/site/bmx_races/520199
END:VEVENT
END:VCALENDAR
