BEGIN:VCALENDAR
VERSION:2.0
PRODID:icalendar-ruby
CALSCALE:GREGORIAN
METHOD:PUBLISH
BEGIN:VEVENT
DTSTAMP:20260425T134716Z
UID:d0007e9d-948e-43c5-aad5-a83635d65eee
DTSTART;VALUE=DATE:20230704
DTEND;VALUE=DATE:20230704
DESCRIPTION:The Hill BMX
LOCATION:709 Sports Way  Elgin IL 60123 USA
SUMMARY:Local Race Single
URL:/site/bmx_races/519960
END:VEVENT
END:VCALENDAR
