BEGIN:VCALENDAR
VERSION:2.0
PRODID:icalendar-ruby
CALSCALE:GREGORIAN
METHOD:PUBLISH
BEGIN:VEVENT
DTSTAMP:20260424T101317Z
UID:dca11f1f-7065-4b2f-9a21-bb87fa6fe8a5
DTSTART;VALUE=DATE:20230406
DTEND;VALUE=DATE:20230406
DESCRIPTION:Triple Creek BMX
LOCATION:12705 Balm Boyette Rd  Riverview FL 33579 USA
SUMMARY:Local Race Single
URL:/site/bmx_races/519547
END:VEVENT
END:VCALENDAR
