BEGIN:VCALENDAR
VERSION:2.0
PRODID:icalendar-ruby
CALSCALE:GREGORIAN
METHOD:PUBLISH
BEGIN:VEVENT
DTSTAMP:20260425T191029Z
UID:45f4ec7f-c23d-4a7c-8110-91494bb1cb04
DTSTART;VALUE=DATE:20230216
DTEND;VALUE=DATE:20230216
DESCRIPTION:Oldsmar BMX Supercross
LOCATION:Oldsmar Sports Complex 3120 Tampa Road Oldsmar FL 34677 USA
SUMMARY:Local Race Single
URL:/site/bmx_races/519415
END:VEVENT
END:VCALENDAR
