BEGIN:VCALENDAR
VERSION:2.0
PRODID:icalendar-ruby
CALSCALE:GREGORIAN
METHOD:PUBLISH
BEGIN:VEVENT
DTSTAMP:20260425T103403Z
UID:56d5721b-5772-4247-8078-dc1b43c5c654
DTSTART;VALUE=DATE:20230707
DTEND;VALUE=DATE:20230707
DESCRIPTION:Burlington BMX
LOCATION:1450 Graham Street  Burlington NC 27217 USA
SUMMARY:Local Race Single
URL:/site/bmx_races/519279
END:VEVENT
END:VCALENDAR
