BEGIN:VCALENDAR
VERSION:2.0
PRODID:icalendar-ruby
CALSCALE:GREGORIAN
METHOD:PUBLISH
BEGIN:VEVENT
DTSTAMP:20260425T201704Z
UID:b4d33ac6-544d-45fa-a98c-98cfd7f43f69
DTSTART;VALUE=DATE:20230419
DTEND;VALUE=DATE:20230419
DESCRIPTION:Langley BMX
LOCATION:4375 206 St Langley  Langley BC V3A 3B1 CAN
SUMMARY:Local Race Single
URL:/site/bmx_races/519257
END:VEVENT
END:VCALENDAR
