BEGIN:VCALENDAR
VERSION:2.0
PRODID:icalendar-ruby
CALSCALE:GREGORIAN
METHOD:PUBLISH
BEGIN:VEVENT
DTSTAMP:20260426T023233Z
UID:63043c03-7364-4f2b-880e-b532fe5d4999
DTSTART;VALUE=DATE:20231107
DTEND;VALUE=DATE:20231107
DESCRIPTION:Jacksonville BMX
LOCATION:1946 Ray Greene Drive  Jacksonville FL 32218 USA
SUMMARY:Practice
URL:/site/bmx_races/519122
END:VEVENT
END:VCALENDAR
