BEGIN:VCALENDAR
VERSION:2.0
PRODID:icalendar-ruby
CALSCALE:GREGORIAN
METHOD:PUBLISH
BEGIN:VEVENT
DTSTAMP:20260426T040102Z
UID:472763e0-5258-4852-809e-809d32e8fcf7
DTSTART;VALUE=DATE:20231017
DTEND;VALUE=DATE:20231017
DESCRIPTION:Jacksonville BMX
LOCATION:1946 Ray Greene Drive  Jacksonville FL 32218 USA
SUMMARY:Practice
URL:/site/bmx_races/519119
END:VEVENT
END:VCALENDAR
