BEGIN:VCALENDAR
VERSION:2.0
PRODID:icalendar-ruby
CALSCALE:GREGORIAN
METHOD:PUBLISH
BEGIN:VEVENT
DTSTAMP:20260425T125906Z
UID:f55daf3f-886c-4537-b91a-e025f3c54934
DTSTART;VALUE=DATE:20230427
DTEND;VALUE=DATE:20230427
DESCRIPTION:Sun City BMX
LOCATION:650 Wallenburg  El Paso TX 79912 USA
SUMMARY:Local Race Single
URL:/site/bmx_races/518879
END:VEVENT
END:VCALENDAR
