BEGIN:VCALENDAR
VERSION:2.0
PRODID:icalendar-ruby
CALSCALE:GREGORIAN
METHOD:PUBLISH
BEGIN:VEVENT
DTSTAMP:20260424T105911Z
UID:88b8e3be-a0c6-4203-8171-952d7ab87663
DTSTART;VALUE=DATE:20230107
DTEND;VALUE=DATE:20230107
DESCRIPTION:Daytona BMX
LOCATION:1670 Strickland Range Rd  Holly Hill FL 32117 USA
SUMMARY:Local Race Single
URL:/site/bmx_races/518826
END:VEVENT
END:VCALENDAR
