BEGIN:VCALENDAR
VERSION:2.0
PRODID:icalendar-ruby
CALSCALE:GREGORIAN
METHOD:PUBLISH
BEGIN:VEVENT
DTSTAMP:20260424T131329Z
UID:ac955c44-7a71-4c61-b026-a1a22d9ef6ee
DTSTART;VALUE=DATE:20220924
DTEND;VALUE=DATE:20220924
DESCRIPTION:Yucca Valley BMX
LOCATION:6989 Sage Ave  Yucca Valley CA 92234 USA
SUMMARY:Local Race Single
URL:/site/bmx_races/518691
END:VEVENT
END:VCALENDAR
