BEGIN:VCALENDAR
VERSION:2.0
PRODID:icalendar-ruby
CALSCALE:GREGORIAN
METHOD:PUBLISH
BEGIN:VEVENT
DTSTAMP:20260424T185911Z
UID:fad69592-3d4a-4654-aa87-791960d406d3
DTSTART;VALUE=DATE:20230622
DTEND;VALUE=DATE:20230622
DESCRIPTION:Johnstown BMX
LOCATION:260 Playground Drive  Johnstown PA 15904 USA
SUMMARY:Local Race Single
URL:/site/bmx_races/518410
END:VEVENT
END:VCALENDAR
