BEGIN:VCALENDAR
VERSION:2.0
PRODID:icalendar-ruby
CALSCALE:GREGORIAN
METHOD:PUBLISH
BEGIN:VEVENT
DTSTAMP:20260426T033515Z
UID:76dbac1d-7268-450b-a851-2809cc152993
DTSTART;VALUE=DATE:20221202
DTEND;VALUE=DATE:20221202
DESCRIPTION:Yuma BMX
LOCATION:3067 S Pacific Ave  Yuma AZ 85364 USA
SUMMARY:Local Race Single
URL:/site/bmx_races/518377
END:VEVENT
END:VCALENDAR
