BEGIN:VCALENDAR
VERSION:2.0
PRODID:icalendar-ruby
CALSCALE:GREGORIAN
METHOD:PUBLISH
BEGIN:VEVENT
DTSTAMP:20260424T230128Z
UID:60271613-c081-483e-96fe-58f0e737094d
DTSTART;VALUE=DATE:20231214
DTEND;VALUE=DATE:20231214
DESCRIPTION:North Bay BMX
LOCATION:3291 Streblow Dr  Napa CA 94558 USA
SUMMARY:Local Race Single
URL:/site/bmx_races/518321
END:VEVENT
END:VCALENDAR
