BEGIN:VCALENDAR
VERSION:2.0
PRODID:icalendar-ruby
CALSCALE:GREGORIAN
METHOD:PUBLISH
BEGIN:VEVENT
DTSTAMP:20260425T024729Z
UID:af8416b7-eb05-4428-9964-5716b3c19527
DTSTART;VALUE=DATE:20230713
DTEND;VALUE=DATE:20230713
DESCRIPTION:Bakerview BMX
LOCATION:3101 E Fir Street  Mt. Vernon WA 98273 USA
SUMMARY:Local Race Single
URL:/site/bmx_races/518186
END:VEVENT
END:VCALENDAR
